BEGIN:VCALENDAR
VERSION:2.0
PRODID:-//The Site for Grace Xavier&#039;s 100th Birthday Celebration! - ECPv6.15.20//NONSGML v1.0//EN
CALSCALE:GREGORIAN
METHOD:PUBLISH
X-ORIGINAL-URL:https://www.gracexavier100th.com
X-WR-CALDESC:Events for The Site for Grace Xavier&#039;s 100th Birthday Celebration!
REFRESH-INTERVAL;VALUE=DURATION:PT1H
X-Robots-Tag:noindex
X-PUBLISHED-TTL:PT1H
BEGIN:VTIMEZONE
TZID:America/Chicago
BEGIN:DAYLIGHT
TZOFFSETFROM:-0600
TZOFFSETTO:-0500
TZNAME:CDT
DTSTART:20120311T080000
END:DAYLIGHT
BEGIN:STANDARD
TZOFFSETFROM:-0500
TZOFFSETTO:-0600
TZNAME:CST
DTSTART:20121104T070000
END:STANDARD
BEGIN:DAYLIGHT
TZOFFSETFROM:-0600
TZOFFSETTO:-0500
TZNAME:CDT
DTSTART:20130310T080000
END:DAYLIGHT
BEGIN:STANDARD
TZOFFSETFROM:-0500
TZOFFSETTO:-0600
TZNAME:CST
DTSTART:20131103T070000
END:STANDARD
BEGIN:DAYLIGHT
TZOFFSETFROM:-0600
TZOFFSETTO:-0500
TZNAME:CDT
DTSTART:20140309T080000
END:DAYLIGHT
BEGIN:STANDARD
TZOFFSETFROM:-0500
TZOFFSETTO:-0600
TZNAME:CST
DTSTART:20141102T070000
END:STANDARD
END:VTIMEZONE
BEGIN:VEVENT
DTSTART;TZID=America/Chicago:20130811T120000
DTEND;TZID=America/Chicago:20130811T220000
DTSTAMP:20260423T145538
CREATED:20130404T073340Z
LAST-MODIFIED:20130404T073340Z
UID:117-1376222400-1376258400@www.gracexavier100th.com
SUMMARY:Boat Ride on Finally Us!
DESCRIPTION:Frank and Sweeney are inviting anyone who is interested to take a ride on their boat\, the Finally Us!  It is located at the Bahia Corinthian Yacht Club right\, very near their beach house. \nShare this:\n				Share on Facebook (Opens in new window)\n				Facebook\n			\n				Share on X (Opens in new window)\n				X\n			\n				Email a link to a friend (Opens in new window)\n				Email
URL:https://www.gracexavier100th.com/event/boat-ride-on-finally-us/
LOCATION:Bahia Corinthian Yacht Club Slip A5\, 1601 Bayside Dr.\, Corona Del Mar\, CA\, 92625\, United States
CATEGORIES:Party
END:VEVENT
BEGIN:VEVENT
DTSTART;TZID=America/Chicago:20130811T120000
DTEND;TZID=America/Chicago:20130811T220000
DTSTAMP:20260423T145538
CREATED:20130327T063449Z
LAST-MODIFIED:20130327T063449Z
UID:112-1376222400-1376258400@www.gracexavier100th.com
SUMMARY:Beach Party!
DESCRIPTION:Frank and Sweeney are inviting anyone who wants to come out to their beach house for a party!  Times are TBD so watch this space. \nShare this:\n				Share on Facebook (Opens in new window)\n				Facebook\n			\n				Share on X (Opens in new window)\n				X\n			\n				Email a link to a friend (Opens in new window)\n				Email
URL:https://www.gracexavier100th.com/event/beach-party-2/
LOCATION:Frank and Sweeney’s Beach House\, 519 W. Balboa Blvd.\, Newport Beach\, CA\, 92661\, United States
CATEGORIES:Party
END:VEVENT
BEGIN:VEVENT
DTSTART;TZID=America/Chicago:20130810T160000
DTEND;TZID=America/Chicago:20130810T210000
DTSTAMP:20260423T145538
CREATED:20130327T055344Z
LAST-MODIFIED:20130327T055344Z
UID:99-1376150400-1376168400@www.gracexavier100th.com
SUMMARY:Nanny's 100th Birthday Party
DESCRIPTION:Come and celebrate the main event with us!  Nanny’s 100th birthday! \nShare this:\n				Share on Facebook (Opens in new window)\n				Facebook\n			\n				Share on X (Opens in new window)\n				X\n			\n				Email a link to a friend (Opens in new window)\n				Email
URL:https://www.gracexavier100th.com/event/nannys-100th-birthday-party/
LOCATION:Yorba Linda Country Club\, 19400 E. Mountain View Avenue\, Yorba Linda\, CA\, 92886\, United States
CATEGORIES:Party
END:VEVENT
BEGIN:VEVENT
DTSTART;TZID=America/Chicago:20130809T120000
DTEND;TZID=America/Chicago:20130809T220000
DTSTAMP:20260423T145538
CREATED:20130327T054437Z
LAST-MODIFIED:20130805T042858Z
UID:97-1376049600-1376085600@www.gracexavier100th.com
SUMMARY:Family Taco Party/Swimming at the Dean House
DESCRIPTION:Michelle and Tim invite you to come to their house for a taco/swim party.  The party starts at 4PM\, dinner will be served from 5PM to 7PM and the pool will be open all day! \nShare this:\n				Share on Facebook (Opens in new window)\n				Facebook\n			\n				Share on X (Opens in new window)\n				X\n			\n				Email a link to a friend (Opens in new window)\n				Email
URL:https://www.gracexavier100th.com/event/family-taco-partyswimming-at-the-dean-house/
LOCATION:Dean Residence\, 18803 Deville Dr\, Yorba Linda\, CA\, 92886\, United States
CATEGORIES:Party
END:VEVENT
BEGIN:VEVENT
DTSTART;TZID=America/Chicago:20130808T120000
DTEND;TZID=America/Chicago:20130808T220000
DTSTAMP:20260423T145538
CREATED:20130404T073052Z
LAST-MODIFIED:20130404T073132Z
UID:115-1375963200-1375999200@www.gracexavier100th.com
SUMMARY:Boat Ride on Finally Us!
DESCRIPTION:Frank and Sweeney are inviting anyone who is interested to take a ride on their boat\, the Finally Us!  It is located at the Bahia Corinthian Yacht Club right\, very near their beach house. \nShare this:\n				Share on Facebook (Opens in new window)\n				Facebook\n			\n				Share on X (Opens in new window)\n				X\n			\n				Email a link to a friend (Opens in new window)\n				Email
URL:https://www.gracexavier100th.com/event/boat-rode-on-finally-us/
LOCATION:Bahia Corinthian Yacht Club Slip A5\, 1601 Bayside Dr.\, Corona del Mar\, CA\, 92625\, United States
CATEGORIES:Party
END:VEVENT
BEGIN:VEVENT
DTSTART;TZID=America/Chicago:20130808T120000
DTEND;TZID=America/Chicago:20130808T220000
DTSTAMP:20260423T145538
CREATED:20130327T063307Z
LAST-MODIFIED:20130327T063307Z
UID:110-1375963200-1375999200@www.gracexavier100th.com
SUMMARY:Beach Party!
DESCRIPTION:Frank and Sweeney are inviting anyone who wants to come out to their beach house for a party!  Times are TBD so watch this space. \nShare this:\n				Share on Facebook (Opens in new window)\n				Facebook\n			\n				Share on X (Opens in new window)\n				X\n			\n				Email a link to a friend (Opens in new window)\n				Email
URL:https://www.gracexavier100th.com/event/beach-party/
LOCATION:Frank and Sweeney’s Beach House\, 519 W. Balboa Blvd.\, Newport Beach\, CA\, 92661\, United States
CATEGORIES:Party
END:VEVENT
END:VCALENDAR